BEGIN:VCALENDAR
VERSION:2.0
PRODID:-//Tukios.com/
BEGIN:VEVENT
UID:afa02f41-3222-4db3-b0a9-2fb4d5eecdba@www.evansmemorialfuneralhome.org
DTSTAMP:20260422T124808Z
DTSTART:20260424T180000Z
DTEND:20260424T230000Z
SUMMARY:Visitation
DESCRIPTION:
URL:https://www.evansmemorialfuneralhome.org/obituaries/dacarmen-flores
LOCATION: 247 Walker St  Forest MS 39074
GEO:32.3629602;-89.4759553
END:VEVENT
END:VCALENDAR