BEGIN:VCALENDAR
VERSION:2.0
PRODID:-//Tukios.com/
BEGIN:VEVENT
UID:1aeb5a81-cbad-4ff5-88ec-8355c5f3f5fc@www.evansmemorialfuneralhome.org
DTSTAMP:20260422T124630Z
DTSTART:20260425T180000Z
DTEND:20260425T190000Z
SUMMARY:Funeral Service
DESCRIPTION:
URL:https://www.evansmemorialfuneralhome.org/obituaries/dacarmen-flores
LOCATION: 5860 Midway Odom Road  Forest MS 39074
GEO:32.5461598;-89.5322115
END:VEVENT
END:VCALENDAR