BEGIN:VCALENDAR
VERSION:2.0
PRODID:-//Tukios.com/
BEGIN:VEVENT
UID:b0fadd85-ae48-492a-b7ca-f104b520130b@www.evansmemorialfuneralhome.org
DTSTAMP:20260422T124808Z
DTSTART:20260424T190000Z
DTEND:20260424T230000Z
SUMMARY:Visitation
DESCRIPTION:
URL:https://www.evansmemorialfuneralhome.org/obituaries/tomeka-smith
LOCATION: 247 Walker St  Forest MS 39074
GEO:32.3629602;-89.4759553
END:VEVENT
END:VCALENDAR