BEGIN:VCALENDAR
VERSION:2.0
PRODID:-//Tukios.com/
BEGIN:VEVENT
UID:06bdaa4b-bf84-42ef-b8eb-acd6d0b2987c@www.evansmemorialfuneralhome.org
DTSTAMP:20260422T124835Z
DTSTART:20260425T190000Z
DTEND:20260425T200000Z
SUMMARY:Funeral Service
DESCRIPTION:
URL:https://www.evansmemorialfuneralhome.org/obituaries/tomeka-smith
LOCATION:Antioch Missionary Baptist Church 117 Needham Road  LAKE MS 
	39092
GEO:32.3367974;-89.3231091
END:VEVENT
END:VCALENDAR